BEGIN:VCALENDAR
VERSION:2.0
PRODID:-//Romanian Portuguese Chamber of Commerce[:ro]Camera de Comert si Industrie Bilaterala Romania Portugalia[:pt]Romanian Portuguese Chamber of Commerce[:] - ECPv5.14.2.1//NONSGML v1.0//EN
CALSCALE:GREGORIAN
METHOD:PUBLISH
X-WR-CALNAME:Romanian Portuguese Chamber of Commerce[:ro]Camera de Comert si Industrie Bilaterala Romania Portugalia[:pt]Romanian Portuguese Chamber of Commerce[:]
X-ORIGINAL-URL:https://ccibrp.ro
X-WR-CALDESC:Events for Romanian Portuguese Chamber of Commerce[:ro]Camera de Comert si Industrie Bilaterala Romania Portugalia[:pt]Romanian Portuguese Chamber of Commerce[:]
REFRESH-INTERVAL;VALUE=DURATION:PT1H
X-Robots-Tag:noindex
X-PUBLISHED-TTL:PT1H
BEGIN:VTIMEZONE
TZID:Europe/Bucharest
BEGIN:DAYLIGHT
TZOFFSETFROM:+0200
TZOFFSETTO:+0300
TZNAME:EEST
DTSTART:20220327T010000
END:DAYLIGHT
BEGIN:STANDARD
TZOFFSETFROM:+0300
TZOFFSETTO:+0200
TZNAME:EET
DTSTART:20221030T010000
END:STANDARD
END:VTIMEZONE
BEGIN:VEVENT
DTSTART;TZID=Europe/Bucharest:20220608T190000
DTEND;TZID=Europe/Bucharest:20220608T190000
DTSTAMP:20260424T193856
CREATED:20220519T143200Z
LAST-MODIFIED:20220519T143200Z
UID:3100-1654714800-1654714800@ccibrp.ro
SUMMARY:Tapas y Sangria
DESCRIPTION:ASEMER – The Association of Spanish Companies in Romania – together with the Alioli Group\, is pleased to invite you to spend a relaxing evening of traditional Spanish food and drinks in the company of representatives of the Association and its special guest – Portugal-Romania Bilateral Chamber of Commerce. \nThe event will take place at Casa España\, on Caderea Bastiliei Street no. 78 (free parking at the location subject to availability). \nThe participation fee is 90 RON per person.\nPlease do not forget to register online \nRegistration link:\nhttps://forms.gle/9445Ci92iGaNwYCo7
URL:https://ccibrp.ro/event/tapas-y-sangria/
LOCATION:Casa España\, Caderea Bastiliei 78\, Bucharest\, Romania
CATEGORIES:Partnerships
END:VEVENT
END:VCALENDAR