BEGIN:VCALENDAR
VERSION:2.0
PRODID:-//Romanian Portuguese Chamber of Commerce[:ro]Camera de Comert si Industrie Bilaterala Romania Portugalia[:pt]Romanian Portuguese Chamber of Commerce[:] - ECPv5.14.2.1//NONSGML v1.0//EN
CALSCALE:GREGORIAN
METHOD:PUBLISH
X-WR-CALNAME:Romanian Portuguese Chamber of Commerce[:ro]Camera de Comert si Industrie Bilaterala Romania Portugalia[:pt]Romanian Portuguese Chamber of Commerce[:]
X-ORIGINAL-URL:https://ccibrp.ro
X-WR-CALDESC:Events for Romanian Portuguese Chamber of Commerce[:ro]Camera de Comert si Industrie Bilaterala Romania Portugalia[:pt]Romanian Portuguese Chamber of Commerce[:]
REFRESH-INTERVAL;VALUE=DURATION:PT1H
X-Robots-Tag:noindex
X-PUBLISHED-TTL:PT1H
BEGIN:VTIMEZONE
TZID:Europe/Bucharest
BEGIN:DAYLIGHT
TZOFFSETFROM:+0200
TZOFFSETTO:+0300
TZNAME:EEST
DTSTART:20230326T010000
END:DAYLIGHT
BEGIN:STANDARD
TZOFFSETFROM:+0300
TZOFFSETTO:+0200
TZNAME:EET
DTSTART:20231029T010000
END:STANDARD
BEGIN:DAYLIGHT
TZOFFSETFROM:+0200
TZOFFSETTO:+0300
TZNAME:EEST
DTSTART:20240331T010000
END:DAYLIGHT
BEGIN:STANDARD
TZOFFSETFROM:+0300
TZOFFSETTO:+0200
TZNAME:EET
DTSTART:20241027T010000
END:STANDARD
END:VTIMEZONE
BEGIN:VEVENT
DTSTART;VALUE=DATE:20231107
DTEND;VALUE=DATE:20231108
DTSTAMP:20260422T131237
CREATED:20231101T183551Z
LAST-MODIFIED:20231101T183735Z
UID:3237-1699315200-1699401599@ccibrp.ro
SUMMARY:BACK 2 BUSINESS
DESCRIPTION:BACK 2 BUSINESS nu este un eveniment local ci unul internațional care a mai fost organizat în orașe precum Dubai\, Sydney\, Barcelona\, Buenos Aires\, Mexico City și Istanbul. În România\, prima ediție a avut loc în 2016 și a atras o audiență de 250 de participanți\, 750 în 2017\, 450 în Cluj în 2018 și 500 în București în 2019. \nPoze de la evenimentele precedente puteți regăsi aici: https://www.facebook.com/BACK2BUSINESSINT/photos \nPentru aceasta ediție\, care va avea loc pe 7 Noiembrie 2023 la Pentagon Events Space avem confirmați ca parteneri 14 camere de comerț bilaterale de renume și 7 asociații de business (detalii disponibile în semnătura emailului nostrum) și anticipăm o audiență de peste 500 de persoane din mediul de business\, reprezentanți ai camerelor de comerț și ai ambasadelor.
URL:https://ccibrp.ro/event/back-2-business/
LOCATION:Pentagon Events Space
CATEGORIES:Partnerships
ATTACH;FMTTYPE=image/jpeg:https://ccibrp.ro/wp-content/uploads/2023/11/304712825_450981460387505_2567992906510929059_n.jpg
END:VEVENT
BEGIN:VEVENT
DTSTART;VALUE=DATE:20231205
DTEND;VALUE=DATE:20231206
DTSTAMP:20260422T131237
CREATED:20231112T082033Z
LAST-MODIFIED:20231112T082033Z
UID:3244-1701734400-1701820799@ccibrp.ro
SUMMARY:Business Breakfast
DESCRIPTION:Impactul politicilor de mediu asupra afacerilor
URL:https://ccibrp.ro/event/business-breakfast/
LOCATION:Centrul INFOEUROPA\, Calea Victoriei 88
CATEGORIES:Partnerships
ATTACH;FMTTYPE=image/jpeg:https://ccibrp.ro/wp-content/uploads/2023/11/Business-Breakfast.jpeg
END:VEVENT
BEGIN:VEVENT
DTSTART;TZID=Europe/Bucharest:20231210T100000
DTEND;TZID=Europe/Bucharest:20231210T160000
DTSTAMP:20260422T131237
CREATED:20231208T095846Z
LAST-MODIFIED:20231208T095956Z
UID:3249-1702202400-1702224000@ccibrp.ro
SUMMARY:IWA Charity Christmas Bazaar 🎁 2023
DESCRIPTION:We are waiting for you at the #Portuguese embassy & community stand\, with traditional gastronomy and crafts. 🇵🇹\nCome join us in the spirit of giving! \nIWA Charity Christmas Bazaar 🎁\n▪️Sunday\, December 10th\, 10:00-16:00\n▪️National Library\nUnder the Patronage of the Ministry of Foreign Affairs \n  \n  \n\n🌐🫂\nH.E. Mr. Paulo Cunha Alves\nIleana Robu\nCatarina Pragosa (Pragosa )\nMariana Carvalho (Indice Consulting and Management)\nHélio Campos (aicep Portugal Global | Romania)\nMihaela-Maria Ciuciureanu\, MBA\nMarina Coanda BunDac\nDancing Lobster\nBA GLASS
URL:https://ccibrp.ro/event/iwa-charity-christmas-bazaar-2023/
LOCATION:National Liberty
CATEGORIES:Partnerships
END:VEVENT
BEGIN:VEVENT
DTSTART;TZID=Europe/Bucharest:20240207T093000
DTEND;TZID=Europe/Bucharest:20240207T120000
DTSTAMP:20260422T131237
CREATED:20240130T213548Z
LAST-MODIFIED:20240130T213712Z
UID:3275-1707298200-1707307200@ccibrp.ro
SUMMARY:Business Breakfast - 7 Februarie 2024
DESCRIPTION:
URL:https://ccibrp.ro/event/business-breakfast-7-februarie-2024/
LOCATION:Centrul INFOEUROPA\, Calea Victoriei 88
CATEGORIES:Partnerships
END:VEVENT
END:VCALENDAR