BEGIN:VCALENDAR
VERSION:2.0
PRODID:-//Romanian Portuguese Chamber of Commerce[:ro]Camera de Comert si Industrie Bilaterala Romania Portugalia[:pt]Romanian Portuguese Chamber of Commerce[:] - ECPv5.14.2.1//NONSGML v1.0//EN
CALSCALE:GREGORIAN
METHOD:PUBLISH
X-WR-CALNAME:Romanian Portuguese Chamber of Commerce[:ro]Camera de Comert si Industrie Bilaterala Romania Portugalia[:pt]Romanian Portuguese Chamber of Commerce[:]
X-ORIGINAL-URL:https://ccibrp.ro
X-WR-CALDESC:Events for Romanian Portuguese Chamber of Commerce[:ro]Camera de Comert si Industrie Bilaterala Romania Portugalia[:pt]Romanian Portuguese Chamber of Commerce[:]
REFRESH-INTERVAL;VALUE=DURATION:PT1H
X-Robots-Tag:noindex
X-PUBLISHED-TTL:PT1H
BEGIN:VTIMEZONE
TZID:Europe/Bucharest
BEGIN:DAYLIGHT
TZOFFSETFROM:+0200
TZOFFSETTO:+0300
TZNAME:EEST
DTSTART:20220327T010000
END:DAYLIGHT
BEGIN:STANDARD
TZOFFSETFROM:+0300
TZOFFSETTO:+0200
TZNAME:EET
DTSTART:20221030T010000
END:STANDARD
TZID:Europe/Helsinki
BEGIN:DAYLIGHT
TZOFFSETFROM:+0200
TZOFFSETTO:+0300
TZNAME:EEST
DTSTART:20220327T010000
END:DAYLIGHT
BEGIN:STANDARD
TZOFFSETFROM:+0300
TZOFFSETTO:+0200
TZNAME:EET
DTSTART:20221030T010000
END:STANDARD
END:VTIMEZONE
BEGIN:VEVENT
DTSTART;TZID=Europe/Bucharest:20220608T190000
DTEND;TZID=Europe/Bucharest:20220608T190000
DTSTAMP:20260425T152614
CREATED:20220519T143200Z
LAST-MODIFIED:20220519T143200Z
UID:3100-1654714800-1654714800@ccibrp.ro
SUMMARY:Tapas y Sangria
DESCRIPTION:ASEMER – The Association of Spanish Companies in Romania – together with the Alioli Group\, is pleased to invite you to spend a relaxing evening of traditional Spanish food and drinks in the company of representatives of the Association and its special guest – Portugal-Romania Bilateral Chamber of Commerce. \nThe event will take place at Casa España\, on Caderea Bastiliei Street no. 78 (free parking at the location subject to availability). \nThe participation fee is 90 RON per person.\nPlease do not forget to register online \nRegistration link:\nhttps://forms.gle/9445Ci92iGaNwYCo7
URL:https://ccibrp.ro/event/tapas-y-sangria/
LOCATION:Casa España\, Caderea Bastiliei 78\, Bucharest\, Romania
CATEGORIES:Partnerships
END:VEVENT
BEGIN:VEVENT
DTSTART;TZID=Europe/Bucharest:20220527T180000
DTEND;TZID=Europe/Bucharest:20220527T200000
DTSTAMP:20260425T152614
CREATED:20220512T163738Z
LAST-MODIFIED:20220519T113846Z
UID:3086-1653674400-1653681600@ccibrp.ro
SUMMARY:Seara de fado si tango cu Iulian Bolog si Gabriel Marc
DESCRIPTION:27 MAI 2022 – ora 18.00 – 20.00\nSeara de fado si tango cu Iulian Bolog si Gabriel Marc   \n  \nVă invităm la seri rafinate de muzică de cea mai bună calitate – fado și tango la violă și chitară – nota de vârf: băuturi nobile și degustări de branzeturi gourmet\, in centrul Bucurestiului\, la Palatul Noblesse. \nPentru informații și rezervări vă rugăm să ne contactați la numerele de telefon 0721 849 396 sau pe adresa noastră de e-mail: management@iulianbolog.com. \n  \nLink bilete:\nhttps://bit.ly/3Na10NU
URL:https://ccibrp.ro/event/seara-de-fado-si-tango-cu-iulian-bolog-si-gabriel-marc/
LOCATION:Palatul Noblesse\, Str. Sfiintilor\, nr. 7\, Mun. Bucuresti\, Romania
CATEGORIES:Partnerships
ORGANIZER;CN="Iulian%20Bolog%20si%20Gabriel%20Marc":MAILTO:management@iulianbolog.com
END:VEVENT
BEGIN:VEVENT
DTSTART;VALUE=DATE:20220525
DTEND;VALUE=DATE:20220526
DTSTAMP:20260425T152614
CREATED:20220519T112958Z
LAST-MODIFIED:20220519T113232Z
UID:3089-1653436800-1653523199@ccibrp.ro
SUMMARY:Blue Talks
DESCRIPTION:The Portuguese Embassy in Bucharest has the utmost pleasure in cordially inviting you to participate in person in the “Blue Talks”\, which will be taking place on 25 May in Bucharest’s Central University Library\, \nThe “Blue Talks” will precede the United Nation’s Ocean Conference (UNOC)\, which will be held in Lisbon between 26 June and 1 July\, and will be inspired by UNOC’s Eight Interactive Dialogues. \n  \nIn this light\, the “Blue Talks” will focus on three main aspects:\n1) managing\, protecting\, conserving and restoring marine and coastal ecosystems – including marine pollution;\n2) leveraging interlinkages between Sustainable Development Goals towards the implementation of the 2030 Agenda;\n3) increasing scientific knowledge and developing research capacity and transfer of marine technology.
URL:https://ccibrp.ro/event/blue-talks/
LOCATION:Bucharest’s Central University Library\, Strada Boteanu 1\, Mun. Bucuresti\, 010292\, Romania
CATEGORIES:Partnerships
END:VEVENT
BEGIN:VEVENT
DTSTART;VALUE=DATE:20220520
DTEND;VALUE=DATE:20220521
DTSTAMP:20260425T152614
CREATED:20220519T113752Z
LAST-MODIFIED:20220519T113829Z
UID:3095-1653004800-1653091199@ccibrp.ro
SUMMARY:Bucharest Leaders Summit: Enduring Power of Solidarity
DESCRIPTION:Protecting Europe in Turbulent Times\nBucharest Leaders Summit: Enduring Power of Solidarity\nInvestitii straine in Romania\n20 Mai 2022
URL:https://ccibrp.ro/event/bucharest-leaders-summit-enduring-power-of-solidarity/
LOCATION:Academia Romana\, Bucharest\, Romania
CATEGORIES:Partnerships
END:VEVENT
BEGIN:VEVENT
DTSTART;TZID=Europe/Helsinki:20220509T180000
DTEND;TZID=Europe/Helsinki:20220509T200000
DTSTAMP:20260425T152614
CREATED:20220505T043846Z
LAST-MODIFIED:20220505T074342Z
UID:3076-1652119200-1652126400@ccibrp.ro
SUMMARY:Seara de fado si tango cu Iulian Bolog si Ganbriel Marc 
DESCRIPTION:Vă invităm la seri rafinate de muzică de cea mai bună calitate – fado și tango la violă și chitară – nota de vârf: băuturi nobile și degustări de branzeturi gourmet\, in centrul Bucurestiului\, la Palatul Noblesse. \nPentru informații și rezervări vă rugăm să ne contactați la numerele de telefon 0721 849 396 sau pe adresa noastră de e-mail: management@iulianbolog.com. \n  \nTICKETS: bit.ly/3KP2blj
URL:https://ccibrp.ro/event/seara-de-fado-si-tango-cu-iulian-bolog-si-ganbriel-marc/
LOCATION:Palatul Noblesse\, Str. Sfiintilor\, nr. 7\, Mun. Bucuresti\, Romania
CATEGORIES:Partnerships
ORGANIZER;CN="Iulian%20Bolog%20si%20Gabriel%20Marc":MAILTO:management@iulianbolog.com
END:VEVENT
BEGIN:VEVENT
DTSTART;TZID=Europe/Helsinki:20220509T093000
DTEND;TZID=Europe/Helsinki:20220509T180000
DTSTAMP:20260425T152614
CREATED:20220505T042909Z
LAST-MODIFIED:20220505T042909Z
UID:3070-1652088600-1652119200@ccibrp.ro
SUMMARY:Smart Regional Development - Smart Airport Cities #2
DESCRIPTION:
URL:https://ccibrp.ro/event/smart-airport-cities/
LOCATION:Ghimbav – Angelis Ballroom\, Calea Brasovului 2\, Ghimbav 507075\, Ghimbav\, Romania
CATEGORIES:Partnerships
END:VEVENT
BEGIN:VEVENT
DTSTART;TZID=Europe/Helsinki:20220426T110000
DTEND;TZID=Europe/Helsinki:20220426T133000
DTSTAMP:20260425T152614
CREATED:20220503T041202Z
LAST-MODIFIED:20220503T041203Z
UID:3044-1650970800-1650979800@ccibrp.ro
SUMMARY:Eveniment - Planul National de Redresare si Rezilienta (PNRR): Oportunitati si Actiuni
DESCRIPTION:URMĂREȘTE LIVE: https://lnkd.in/eDfH7bgg\n𝗣𝗟𝗔𝗡𝗨𝗟 𝗡𝗔𝗧̦𝗜𝗢𝗡𝗔𝗟 𝗗𝗘 𝗥𝗘𝗗𝗥𝗘𝗦𝗔𝗥𝗘 𝗦̦𝗜 𝗥𝗘𝗭𝗜𝗟𝗜𝗘𝗡𝗧̦𝗔̆ (𝗣𝗡𝗥𝗥): 𝗢𝗣𝗢𝗥𝗧𝗨𝗡𝗜𝗧𝗔̆𝗧̦𝗜 𝗦̦𝗜 𝗔𝗖𝗧̦𝗜𝗨𝗡𝗜. Acesta este un eveniment focusat pe aspectele referitoare la PNRR având invitați speciali: reprezentanți ai autorităților centrale și locale\, oficialități guvernamentale\, companii private și părți interesate din economie sunt invitați să se angajeze într-un dialog deschis despre oportunitățile de a valorifica segmentele de investiții din cadrul PNRR.\n\n\n𝗦𝗽𝗲𝗮𝗸𝗲𝗿𝗶𝗶 𝗱𝗶𝗻 𝗽𝗮𝗻𝗲𝗹\nCsilla HEGEDÜS\, Secretar de Stat\, Ministerul Investitiilor si Proiectelor Europene\nSABIN SARMAS\, Președinte\, Comisia pentru Comunicații și Tehnologia Informației\, Camera Deputaților\nANTONIO RADOI\, PhD\, Director UIRPSF\, MCID\, Ministerul Cercetarii\, Inovatiei si Digitalizarii\nPeter FUZES\, Head of Industry Strategy & Transformation EMEA\, Public Sector\, ORACLE\nOCTAVIAN OPREA\, Vice Presedinte\, Autoritatea pentru Digitalizarea României\nFLORIN MARIAN SPĂTARU\, Ministru\, Ministerul Economiei\nADRIAN CÂCIU\, Ministru\, Ministerul de Finante\nANCA DRAGU\, Senator\, Senatul Romaniei\nDRAGOS DAN DRAGAN\, Ministerul Energiei\nOANA-MARCIANA ÖZMEN\, Deputat\, Parlamentul Romaniei\nCONSTANTIN TOMA\, Presedinte executiv\, Asociația Municipiilor din România – AMR\nRadu PUCHIU\, Co-fondator H.appyCities (Moderator)\nZOLTAN NAGY-BEGE\, Vice-presedinte ANRE\nBARNA TÁNCZOS\, Ministru\, Ministerul Mediului\, Apelor și Pădurilor\nATTILA-ZOLTÁN CSEKE\, Ministru\, Ministerul Dezvoltării\, Administrației și Lucrărilor Publice
URL:https://ccibrp.ro/event/eveniment-planul-national-de-redresare-si-rezilienta-pnrr-oportunitati-si-actiuni/
LOCATION:Online
END:VEVENT
END:VCALENDAR