BEGIN:VCALENDAR
VERSION:2.0
PRODID:-//Romanian Portuguese Chamber of Commerce[:ro]Camera de Comert si Industrie Bilaterala Romania Portugalia[:pt]Romanian Portuguese Chamber of Commerce[:] - ECPv5.14.2.1//NONSGML v1.0//EN
CALSCALE:GREGORIAN
METHOD:PUBLISH
X-WR-CALNAME:Romanian Portuguese Chamber of Commerce[:ro]Camera de Comert si Industrie Bilaterala Romania Portugalia[:pt]Romanian Portuguese Chamber of Commerce[:]
X-ORIGINAL-URL:https://ccibrp.ro
X-WR-CALDESC:Events for Romanian Portuguese Chamber of Commerce[:ro]Camera de Comert si Industrie Bilaterala Romania Portugalia[:pt]Romanian Portuguese Chamber of Commerce[:]
REFRESH-INTERVAL;VALUE=DURATION:PT1H
X-Robots-Tag:noindex
X-PUBLISHED-TTL:PT1H
BEGIN:VTIMEZONE
TZID:Europe/Bucharest
BEGIN:DAYLIGHT
TZOFFSETFROM:+0200
TZOFFSETTO:+0300
TZNAME:EEST
DTSTART:20230326T010000
END:DAYLIGHT
BEGIN:STANDARD
TZOFFSETFROM:+0300
TZOFFSETTO:+0200
TZNAME:EET
DTSTART:20231029T010000
END:STANDARD
END:VTIMEZONE
BEGIN:VEVENT
DTSTART;TZID=Europe/Bucharest:20231003T090000
DTEND;TZID=Europe/Bucharest:20231003T160000
DTSTAMP:20260420T215625
CREATED:20230912T170027Z
LAST-MODIFIED:20230912T170027Z
UID:3224-1696323600-1696348800@ccibrp.ro
SUMMARY:Inclusive Recruitment Conference 2023
DESCRIPTION:For the first time in Romania\, the Romanian Diversity Chamber of Commerce is organizing the Inclusive Recruitment Conference\, uniting professionals specializing in diversity\, inclusion\, HR\, and talent. These experts can help businesses draw in a varied pool of talent\, eliminate biases and enhance the inclusiveness of their recruitment methods.\nWith over 12 distinguished speakers\, engaging panel conversations\, exchange of best practices\, personal interviews\, interactive Q&A sessions and chances for networking\, we are confident that your participation in the first edition of our Inclusive Recruitment Conference 2023 will motivate you to bring about positive change within your own organisation.\nRegistration before the event is required and only registered participants will be guaranteed a place. Further information will be sent out closer to the event.\nCannot attend? All talks are recorded so you can revisit or view at a time convenient to you on our YouTube channel! Subscribe to our newsletter to stay in the know.\nRegister\, as well as find more about the topics to be explored\, speakers and event agenda here: www.rdcc.ro/event/inclusive-recruitment-romania-conference-2023/
URL:https://ccibrp.ro/event/inclusive-recruitment-conference-2023/
LOCATION:The Marmorosch Bucharest\, Autograph Collection
CATEGORIES:Partnerships
END:VEVENT
END:VCALENDAR