BEGIN:VCALENDAR
VERSION:2.0
PRODID:-//Romanian Portuguese Chamber of Commerce[:ro]Camera de Comert si Industrie Bilaterala Romania Portugalia[:pt]Romanian Portuguese Chamber of Commerce[:] - ECPv5.14.2.1//NONSGML v1.0//EN
CALSCALE:GREGORIAN
METHOD:PUBLISH
X-WR-CALNAME:Romanian Portuguese Chamber of Commerce[:ro]Camera de Comert si Industrie Bilaterala Romania Portugalia[:pt]Romanian Portuguese Chamber of Commerce[:]
X-ORIGINAL-URL:https://ccibrp.ro
X-WR-CALDESC:Events for Romanian Portuguese Chamber of Commerce[:ro]Camera de Comert si Industrie Bilaterala Romania Portugalia[:pt]Romanian Portuguese Chamber of Commerce[:]
REFRESH-INTERVAL;VALUE=DURATION:PT1H
X-Robots-Tag:noindex
X-PUBLISHED-TTL:PT1H
BEGIN:VTIMEZONE
TZID:Europe/Bucharest
BEGIN:DAYLIGHT
TZOFFSETFROM:+0200
TZOFFSETTO:+0300
TZNAME:EEST
DTSTART:20230326T010000
END:DAYLIGHT
BEGIN:STANDARD
TZOFFSETFROM:+0300
TZOFFSETTO:+0200
TZNAME:EET
DTSTART:20231029T010000
END:STANDARD
END:VTIMEZONE
BEGIN:VEVENT
DTSTART;TZID=Europe/Bucharest:20230921T183000
DTEND;TZID=Europe/Bucharest:20230921T213000
DTSTAMP:20260420T184511
CREATED:20230912T170426Z
LAST-MODIFIED:20230912T170426Z
UID:3229-1695321000-1695331800@ccibrp.ro
SUMMARY:ART & BUSINESS: WIN-WIN
DESCRIPTION:Together\, we will explore investment opportunities in art\,\ncreative business models and ways to further\ndevelop mutually beneficial\, cross-cultural encounters.\nA musical recital offered by a prestigious surprise\nguest will grace our evening.\nEmblematic foods and drinks to be served.\nThursday\, September 21st\, 2023 I Time: 6:30PM – 9:30PM\nAddress: Ermil Pangratti street\, no. 2A\, Bucharest
URL:https://ccibrp.ro/event/art-business-win-win/
CATEGORIES:Partnerships
END:VEVENT
END:VCALENDAR