BEGIN:VCALENDAR
VERSION:2.0
PRODID:-//Romanian Portuguese Chamber of Commerce[:ro]Camera de Comert si Industrie Bilaterala Romania Portugalia[:pt]Romanian Portuguese Chamber of Commerce[:] - ECPv5.14.2.1//NONSGML v1.0//EN
CALSCALE:GREGORIAN
METHOD:PUBLISH
X-WR-CALNAME:Romanian Portuguese Chamber of Commerce[:ro]Camera de Comert si Industrie Bilaterala Romania Portugalia[:pt]Romanian Portuguese Chamber of Commerce[:]
X-ORIGINAL-URL:https://ccibrp.ro
X-WR-CALDESC:Events for Romanian Portuguese Chamber of Commerce[:ro]Camera de Comert si Industrie Bilaterala Romania Portugalia[:pt]Romanian Portuguese Chamber of Commerce[:]
REFRESH-INTERVAL;VALUE=DURATION:PT1H
X-Robots-Tag:noindex
X-PUBLISHED-TTL:PT1H
BEGIN:VTIMEZONE
TZID:Europe/Bucharest
BEGIN:DAYLIGHT
TZOFFSETFROM:+0200
TZOFFSETTO:+0300
TZNAME:EEST
DTSTART:20230326T010000
END:DAYLIGHT
BEGIN:STANDARD
TZOFFSETFROM:+0300
TZOFFSETTO:+0200
TZNAME:EET
DTSTART:20231029T010000
END:STANDARD
END:VTIMEZONE
BEGIN:VEVENT
DTSTART;VALUE=DATE:20230919
DTEND;VALUE=DATE:20230920
DTSTAMP:20260420T183823
CREATED:20230912T165649Z
LAST-MODIFIED:20230912T165806Z
UID:3221-1695081600-1695167999@ccibrp.ro
SUMMARY:Romanian Accessibility Awareness Day Conference 2023
DESCRIPTION:Romanian Accessibility Awareness Day Conference 2023 \nSeptember 19 at 9:00 am\nThe Marmorosch Autograph Collection\nStrada Doamnei 2\nBucharest
URL:https://ccibrp.ro/event/romanian-accessibility-awareness-day-conference-2023/
CATEGORIES:Partnerships
END:VEVENT
END:VCALENDAR