BEGIN:VCALENDAR
VERSION:2.0
PRODID:-//Romanian Portuguese Chamber of Commerce[:ro]Camera de Comert si Industrie Bilaterala Romania Portugalia[:pt]Romanian Portuguese Chamber of Commerce[:] - ECPv5.14.2.1//NONSGML v1.0//EN
CALSCALE:GREGORIAN
METHOD:PUBLISH
X-WR-CALNAME:Romanian Portuguese Chamber of Commerce[:ro]Camera de Comert si Industrie Bilaterala Romania Portugalia[:pt]Romanian Portuguese Chamber of Commerce[:]
X-ORIGINAL-URL:https://ccibrp.ro
X-WR-CALDESC:Events for Romanian Portuguese Chamber of Commerce[:ro]Camera de Comert si Industrie Bilaterala Romania Portugalia[:pt]Romanian Portuguese Chamber of Commerce[:]
REFRESH-INTERVAL;VALUE=DURATION:PT1H
X-Robots-Tag:noindex
X-PUBLISHED-TTL:PT1H
BEGIN:VTIMEZONE
TZID:Europe/Bucharest
BEGIN:DAYLIGHT
TZOFFSETFROM:+0200
TZOFFSETTO:+0300
TZNAME:EEST
DTSTART:20230326T010000
END:DAYLIGHT
BEGIN:STANDARD
TZOFFSETFROM:+0300
TZOFFSETTO:+0200
TZNAME:EET
DTSTART:20231029T010000
END:STANDARD
END:VTIMEZONE
BEGIN:VEVENT
DTSTART;TZID=Europe/Bucharest:20230509T090000
DTEND;TZID=Europe/Bucharest:20230509T140000
DTSTAMP:20260420T215632
CREATED:20230913T103140Z
LAST-MODIFIED:20230913T103140Z
UID:3233-1683622800-1683640800@ccibrp.ro
SUMMARY:ED&I in Eastern Europe Conference 2023
DESCRIPTION:Equality\, Diversity & Inclusion Eastern Europe Conference 2023. \nTaking place at the Intercontinental Athenee Palace\, Bucharest\, on May 9\, 2023. \nWe will bring together senior equality\, diversity and inclusion practitioners in Eastern Europe looking to accelerate their workplace ED&I strategy and build their professional network. \nA day filled with speakers\, one-to-one interviews\, case studies\, panel discussions\, Q&A sessions and networking tables\, inspiring you to make a difference in your organisation.
URL:https://ccibrp.ro/event/edi-in-eastern-europe-conference-2023/
LOCATION:InterContinental Athénée Palace Bucharest
CATEGORIES:Partnerships
END:VEVENT
END:VCALENDAR