BEGIN:VCALENDAR
VERSION:2.0
PRODID:-//Romanian Portuguese Chamber of Commerce[:ro]Camera de Comert si Industrie Bilaterala Romania Portugalia[:pt]Romanian Portuguese Chamber of Commerce[:] - ECPv5.14.2.1//NONSGML v1.0//EN
CALSCALE:GREGORIAN
METHOD:PUBLISH
X-WR-CALNAME:Romanian Portuguese Chamber of Commerce[:ro]Camera de Comert si Industrie Bilaterala Romania Portugalia[:pt]Romanian Portuguese Chamber of Commerce[:]
X-ORIGINAL-URL:https://ccibrp.ro
X-WR-CALDESC:Events for Romanian Portuguese Chamber of Commerce[:ro]Camera de Comert si Industrie Bilaterala Romania Portugalia[:pt]Romanian Portuguese Chamber of Commerce[:]
REFRESH-INTERVAL;VALUE=DURATION:PT1H
X-Robots-Tag:noindex
X-PUBLISHED-TTL:PT1H
BEGIN:VTIMEZONE
TZID:Europe/Bucharest
BEGIN:DAYLIGHT
TZOFFSETFROM:+0200
TZOFFSETTO:+0300
TZNAME:EEST
DTSTART:20230326T010000
END:DAYLIGHT
BEGIN:STANDARD
TZOFFSETFROM:+0300
TZOFFSETTO:+0200
TZNAME:EET
DTSTART:20231029T010000
END:STANDARD
END:VTIMEZONE
BEGIN:VEVENT
DTSTART;VALUE=DATE:20230321
DTEND;VALUE=DATE:20230322
DTSTAMP:20260424T072044
CREATED:20230228T155328Z
LAST-MODIFIED:20230228T155600Z
UID:3210-1679356800-1679443199@ccibrp.ro
SUMMARY:PR & Communication Summit 2023
DESCRIPTION:La PR & Communication Summit 2023\, descoperi noutatile momentului in domeniu si te conectezi cu cei mai activi comunicatori din Romania. Profita de oferta speciala\, pana pe 1 martie\, si rezerva un loc la cel mai bun pret in sala de conferinta de la Hotel JW Marriott. \n  \n Vino pe 21 martie la evenimentul de comunicare al anului.  www.prsummit.ro
URL:https://ccibrp.ro/event/pr-communication-summit-2023/
LOCATION:JW Marriott Bucharest Grand Hotel\, Bucharest\, Romania
CATEGORIES:Partnerships
ATTACH;FMTTYPE=image/png:https://ccibrp.ro/wp-content/uploads/2023/02/PR-Summit-2.png
END:VEVENT
END:VCALENDAR