BEGIN:VCALENDAR
VERSION:2.0
PRODID:-//Romanian Portuguese Chamber of Commerce[:ro]Camera de Comert si Industrie Bilaterala Romania Portugalia[:pt]Romanian Portuguese Chamber of Commerce[:] - ECPv5.14.2.1//NONSGML v1.0//EN
CALSCALE:GREGORIAN
METHOD:PUBLISH
X-WR-CALNAME:Romanian Portuguese Chamber of Commerce[:ro]Camera de Comert si Industrie Bilaterala Romania Portugalia[:pt]Romanian Portuguese Chamber of Commerce[:]
X-ORIGINAL-URL:https://ccibrp.ro
X-WR-CALDESC:Events for Romanian Portuguese Chamber of Commerce[:ro]Camera de Comert si Industrie Bilaterala Romania Portugalia[:pt]Romanian Portuguese Chamber of Commerce[:]
REFRESH-INTERVAL;VALUE=DURATION:PT1H
X-Robots-Tag:noindex
X-PUBLISHED-TTL:PT1H
BEGIN:VTIMEZONE
TZID:Europe/Bucharest
BEGIN:DAYLIGHT
TZOFFSETFROM:+0200
TZOFFSETTO:+0300
TZNAME:EEST
DTSTART:20220327T010000
END:DAYLIGHT
BEGIN:STANDARD
TZOFFSETFROM:+0300
TZOFFSETTO:+0200
TZNAME:EET
DTSTART:20221030T010000
END:STANDARD
END:VTIMEZONE
BEGIN:VEVENT
DTSTART;TZID=Europe/Bucharest:20221117T090000
DTEND;TZID=Europe/Bucharest:20221117T210000
DTSTAMP:20260424T131023
CREATED:20221108T134143Z
LAST-MODIFIED:20221108T134143Z
UID:3183-1668675600-1668718800@ccibrp.ro
SUMMARY:PETECH 2022
DESCRIPTION:POWER & ENERGY TECHNOLOGYConference\nTwining Clean & Sustainable Digital Transitions \n17 November 2022JW Marriott Bucharest Grand HotelBucharest\, Romania \nPETECH 2022 offers a fresh approach to Clean & Sustainable Digital Transitions in Romania with high level conference panels. Top class industry speakers will gather to discuss concrete actions  to foster cooperation on energy sector sustainable development. The conference is a specialized gathering platform that attracts energy experts from across the full value chain.\n• Boost your company visibility• Meet with likeminded people and industry peers\, face to face communication with experts• Broaden your network\, uncover new learnings\, and reinforce existing best practices• Over coffee\, lunch\, or cocktail\, you may chat with the perfect provider or prospect• A must-see line-up of speakers will share current insights on transforming technology\, processes\, and people to drive sustainable value \nMore information in the link below: \nPETECH-2022-kit \n  \nCONFERENCE ENQUIRIES   \nlavinia@energyindustryreview.com \n +40 749 220 635
URL:https://ccibrp.ro/event/petech-2022/
LOCATION:JW Marriott Bucharest Grand Hotel\, Bucharest\, Romania
CATEGORIES:Partnerships
END:VEVENT
END:VCALENDAR