BEGIN:VCALENDAR
VERSION:2.0
PRODID:-//Romanian Portuguese Chamber of Commerce[:ro]Camera de Comert si Industrie Bilaterala Romania Portugalia[:pt]Romanian Portuguese Chamber of Commerce[:] - ECPv5.14.2.1//NONSGML v1.0//EN
CALSCALE:GREGORIAN
METHOD:PUBLISH
X-WR-CALNAME:Romanian Portuguese Chamber of Commerce[:ro]Camera de Comert si Industrie Bilaterala Romania Portugalia[:pt]Romanian Portuguese Chamber of Commerce[:]
X-ORIGINAL-URL:https://ccibrp.ro
X-WR-CALDESC:Events for Romanian Portuguese Chamber of Commerce[:ro]Camera de Comert si Industrie Bilaterala Romania Portugalia[:pt]Romanian Portuguese Chamber of Commerce[:]
REFRESH-INTERVAL;VALUE=DURATION:PT1H
X-Robots-Tag:noindex
X-PUBLISHED-TTL:PT1H
BEGIN:VTIMEZONE
TZID:Europe/Bucharest
BEGIN:DAYLIGHT
TZOFFSETFROM:+0200
TZOFFSETTO:+0300
TZNAME:EEST
DTSTART:20220327T010000
END:DAYLIGHT
BEGIN:STANDARD
TZOFFSETFROM:+0300
TZOFFSETTO:+0200
TZNAME:EET
DTSTART:20221030T010000
END:STANDARD
END:VTIMEZONE
BEGIN:VEVENT
DTSTART;TZID=Europe/Bucharest:20221102T100000
DTEND;TZID=Europe/Bucharest:20221102T123000
DTSTAMP:20260424T131032
CREATED:20221017T155357Z
LAST-MODIFIED:20221017T155546Z
UID:3166-1667383200-1667392200@ccibrp.ro
SUMMARY:NOA Community Day – tax & internal audit live webinar
DESCRIPTION:Pentru al doilea an consecutiv\, NOA Group organizează webinarul cu teme privind fiscalitatea și auditul\nintern\, dedicat comunităților de business din România – asociații profesionale și camere bilaterale.\nNOA Group este o companie care ofera servicii de înaltă expertiză în aria consultanței de business\,\nconsultanței fiscale\, consultanței în prețuri de transfer\, dar și a auditului intern.\nVă invităm să participați la acest webinar organizat în data de 2 noiembrie 2022\, în intervalul 10:00 –\n12:30 live prin zoom.\nWebinarul își propune să treacă în revistă cele mai importante modificări fiscale\, aspecte ce ar trebui\nluate în calcul la închiderea exercițiului financiar\, stabilirea politicilor de prețuri de transfer\, dar și cele\nmai importante direcții de îmbunătățire a proceselor și procedurilor interne în contextul auditului intern.\nConținutul webinarului este dedicat persoanelor din middle &amp; top management din cadrul\ndepartamentului financiar-contabil (e.g. contabil șef\, directori financiari\, directori economici)\,\ncontrolling\, audit intern așa că vă încurajăm să înaintați această invitație către colegii din\ndepartamentele amintite.\nParticiparea nu are implicații financiare\, iar pentru mai multe detalii și înscriere accesați link-ul\nurmător:\nhttps://noagroup.ro/eveniment/noa-community-day/
URL:https://ccibrp.ro/event/noa-community-day-tax-internal-audit-live-webinar/
LOCATION:Online
CATEGORIES:Partnerships
ATTACH;FMTTYPE=image/jpeg:https://ccibrp.ro/wp-content/uploads/2022/10/Newsletter_CCIBRP_VISUAL.jpg
END:VEVENT
END:VCALENDAR